BEGIN:VCALENDAR
PRODID:-//PUBBLE//agenda//NL
VERSION:2.0
METHOD:PUBLISH
BEGIN:VEVENT
DTSTART:20260107T100000Z
DTEND:20260630T130000Z
DTSTAMP:20260422T133517Z
UID:9c05172e-1cb0-46e8-b95f-285b20a90ed5
CREATED:20260422T133517Z
NAME:Nederlandse taalles voor volwassenen kliknieuwsdenbosch.nl
X-WR-CALNAME:Nederlandse taalles voor volwassenen
X-ALT-DESC;FMTTYPE=text/html:<a href='/agenda/2026/1/7/nederlandse-taalles-voor-volwassenen-247048'>/agenda/2026/1/7/nederlandse-taalles-voor-volwassenen-247048</a> || <p>Praktisch onderwijs voor volwassen die moeite hebben met leren.</p><p>- Op je eigen niveau en in je eigen tempo.</p><p>- De groep is klein (maximaal 8 personen).</p><p>- De lessen zijn gezellig.</p><p>- Je krijgt veel hulp.</p><p>- De lessen zijn gratis voor onze doelgroep</p><p>Meer informatie en aanmelden:</p><p><a href="//www.prago.nl">www.prago.nl</a>/06-53430058</p>
DESCRIPTION:<a href='/agenda/2026/1/7/nederlandse-taalles-voor-volwassenen-247048'>/agenda/2026/1/7/nederlandse-taalles-voor-volwassenen-247048</a> || <p>Praktisch onderwijs voor volwassen die moeite hebben met leren.</p><p>- Op je eigen niveau en in je eigen tempo.</p><p>- De groep is klein (maximaal 8 personen).</p><p>- De lessen zijn gezellig.</p><p>- Je krijgt veel hulp.</p><p>- De lessen zijn gratis voor onze doelgroep</p><p>Meer informatie en aanmelden:</p><p><a href="//www.prago.nl">www.prago.nl</a>/06-53430058</p>
LAST-MODIFIED:20260422T133517Z
LOCATION: Wijkcentrum De Stolp | Rijnstraat 497 's-Hertogenbosch
SEQUENCE:0
STATUS:CONFIRMED
SUMMARY:Nederlandse taalles voor volwassenen
TRANSP:OPAQUE
END:VEVENT
END:VCALENDAR
