BEGIN:VCALENDAR
PRODID:-//PUBBLE//agenda//NL
VERSION:2.0
METHOD:PUBLISH
BEGIN:VEVENT
DTSTART:20260219T170000Z
DTEND:20270219T130600Z
DTSTAMP:20260423T113644Z
UID:f751013d-1a88-4716-a14e-c226f7c10036
CREATED:20260423T113644Z
NAME:Klaverjassen kliknieuwsdenbosch.nl
X-WR-CALNAME:Klaverjassen
X-ALT-DESC;FMTTYPE=text/html:<a href='/agenda/2026/2/19/klaverjassen-248666'>/agenda/2026/2/19/klaverjassen-248666</a> || <p>Kom gezellig klaverjassen in BBS Boschveld. Nieuwe leden gezocht.</p>
DESCRIPTION:<a href='/agenda/2026/2/19/klaverjassen-248666'>/agenda/2026/2/19/klaverjassen-248666</a> || <p>Kom gezellig klaverjassen in BBS Boschveld. Nieuwe leden gezocht.</p>
LAST-MODIFIED:20260423T113644Z
LOCATION: BBS Boschveld | Zernikestraat 2 's-Hertogenbosch
SEQUENCE:0
STATUS:CONFIRMED
SUMMARY:Klaverjassen
TRANSP:OPAQUE
END:VEVENT
END:VCALENDAR
