BEGIN:VCALENDAR
PRODID:-//PUBBLE//agenda//NL
VERSION:2.0
METHOD:PUBLISH
BEGIN:VEVENT
DTSTART:20260421T113000Z
DTEND:20260421T140000Z
DTSTAMP:20260421T070743Z
UID:bcfaf06e-7186-4f8f-8ac0-45c97fbd7655
CREATED:20260421T070743Z
NAME:Bossche Liederentafel kliknieuwsdenbosch.nl
X-WR-CALNAME:Bossche Liederentafel
X-ALT-DESC;FMTTYPE=text/html:<a href='/agenda/2026/4/21/bossche-liederentafel-250857'>/agenda/2026/4/21/bossche-liederentafel-250857</a> || <p>Bossche Liederentafel in de Knillispoort. Kom sluit aan en zing gezellig mee, want van zingen word je blij! Tijd: van 13.30 tot 16.00 uur.</p>
DESCRIPTION:<a href='/agenda/2026/4/21/bossche-liederentafel-250857'>/agenda/2026/4/21/bossche-liederentafel-250857</a> || <p>Bossche Liederentafel in de Knillispoort. Kom sluit aan en zing gezellig mee, want van zingen word je blij! Tijd: van 13.30 tot 16.00 uur.</p>
LAST-MODIFIED:20260421T070743Z
LOCATION: Knillispoort | Korte Waterstraat 15 's-Hertogenbosch
SEQUENCE:0
STATUS:CONFIRMED
SUMMARY:Bossche Liederentafel
TRANSP:OPAQUE
END:VEVENT
END:VCALENDAR
