BEGIN:VCALENDAR
PRODID:-//PUBBLE//agenda//NL
VERSION:2.0
METHOD:PUBLISH
BEGIN:VEVENT
DTSTART:20260423T103000Z
DTEND:20260423T130000Z
DTSTAMP:20260423T113456Z
UID:42843399-bb4e-4d9b-a08b-9d2a9f768e70
CREATED:20260423T113456Z
NAME:Lunchen met kamermuziek kliknieuwsdenbosch.nl
X-WR-CALNAME:Lunchen met kamermuziek
X-ALT-DESC;FMTTYPE=text/html:<a href='/agenda/2026/4/23/lunchen-met-kamermuziek-251105'>/agenda/2026/4/23/lunchen-met-kamermuziek-251105</a> || <p>Het lunchconcert wordt dit keer verzorgd door Dasha en Ksenia Beltiukova (fluit en viool) samen met harpiste Mirjam Rietberg. Het programma ‘Van Parijs tot Sevilla’ bevat muziek van onder andere Debussy, de Falla, Albéniz en Saint-Saëns. Kaartverkoop uitsluitend voor aanvang van het concert.</p>
DESCRIPTION:<a href='/agenda/2026/4/23/lunchen-met-kamermuziek-251105'>/agenda/2026/4/23/lunchen-met-kamermuziek-251105</a> || <p>Het lunchconcert wordt dit keer verzorgd door Dasha en Ksenia Beltiukova (fluit en viool) samen met harpiste Mirjam Rietberg. Het programma ‘Van Parijs tot Sevilla’ bevat muziek van onder andere Debussy, de Falla, Albéniz en Saint-Saëns. Kaartverkoop uitsluitend voor aanvang van het concert.</p>
LAST-MODIFIED:20260423T113456Z
LOCATION: PA Podium Azijnfabriek | Triniteitstraat 19 's-Hertogenbosch
SEQUENCE:0
STATUS:CONFIRMED
SUMMARY:Lunchen met kamermuziek
TRANSP:OPAQUE
END:VEVENT
END:VCALENDAR
