BEGIN:VCALENDAR
PRODID:-//PUBBLE//agenda//NL
VERSION:2.0
METHOD:PUBLISH
BEGIN:VEVENT
DTSTART:20260425T103000Z
DTEND:20260425T130000Z
DTSTAMP:20260423T143130Z
UID:a041fd40-333f-4fc1-af5d-13e6ac014f4b
CREATED:20260423T143130Z
NAME:Lunchen met kamermuziek kliknieuwsdenbosch.nl
X-WR-CALNAME:Lunchen met kamermuziek
X-ALT-DESC;FMTTYPE=text/html:<a href='/agenda/2026/4/25/lunchen-met-kamermuziek-251106'>/agenda/2026/4/25/lunchen-met-kamermuziek-251106</a> || <p>Dit keer staat het Amsterdam Wind Quintet op het podium tijdens het lunchconcert. Het kwintet viert haar twintigste verjaardag met het virtuoze kwintet van pionier Reicha, de wereldpremière ‘Lost in Reverie’ van Alexander Jansen en een bewerking van de ouverture Fledermaus. Kaartverkoop uitsluitend voor aanvang van het concert.</p>
DESCRIPTION:<a href='/agenda/2026/4/25/lunchen-met-kamermuziek-251106'>/agenda/2026/4/25/lunchen-met-kamermuziek-251106</a> || <p>Dit keer staat het Amsterdam Wind Quintet op het podium tijdens het lunchconcert. Het kwintet viert haar twintigste verjaardag met het virtuoze kwintet van pionier Reicha, de wereldpremière ‘Lost in Reverie’ van Alexander Jansen en een bewerking van de ouverture Fledermaus. Kaartverkoop uitsluitend voor aanvang van het concert.</p>
LAST-MODIFIED:20260423T143130Z
LOCATION: PA Podium Azijnfabriek | Triniteitstraat 19 's-Hertogenbosch
SEQUENCE:0
STATUS:CONFIRMED
SUMMARY:Lunchen met kamermuziek
TRANSP:OPAQUE
END:VEVENT
END:VCALENDAR
